Package: ClassifyR Version: 3.13.8 Command: rm -rf ClassifyR.buildbin-libdir && mkdir ClassifyR.buildbin-libdir && /Users/biocbuild/BBS/utils/build-universal.sh ClassifyR_3.13.8.tar.gz /Library/Frameworks/R.framework/Resources/bin/R ClassifyR.buildbin-libdir StartedAt: 2025-10-25 01:33:02 -0400 (Sat, 25 Oct 2025) EndedAt: 2025-10-25 01:33:55 -0400 (Sat, 25 Oct 2025) EllapsedTime: 53.1 seconds RetCode: 0 Status: OK PackageFile: ClassifyR_3.13.8.tgz PackageFileSize: 2.545 MiB