Package: ClassifyR Version: 3.14.0 Command: /Library/Frameworks/R.framework/Resources/bin/R CMD check --install=check:ClassifyR.install-out.txt --library=/Library/Frameworks/R.framework/Resources/library --no-vignettes --timings ClassifyR_3.14.0.tar.gz StartedAt: 2025-11-06 18:59:56 -0500 (Thu, 06 Nov 2025) EndedAt: 2025-11-06 19:01:59 -0500 (Thu, 06 Nov 2025) EllapsedTime: 122.5 seconds RetCode: 0 Status: WARNINGS CheckDir: ClassifyR.Rcheck Warnings: 1