Package: ClassifyR Version: 3.13.8 Command: /Library/Frameworks/R.framework/Resources/bin/R CMD build --keep-empty-dirs --no-resave-data ClassifyR StartedAt: 2025-10-24 15:59:24 -0400 (Fri, 24 Oct 2025) EndedAt: 2025-10-24 16:00:05 -0400 (Fri, 24 Oct 2025) EllapsedTime: 41.5 seconds RetCode: 0 Status: OK PackageFile: ClassifyR_3.13.8.tar.gz PackageFileSize: 2.304 MiB