Package: ClassifyR Version: 3.13.8 Command: rm -rf ClassifyR.buildbin-libdir && mkdir ClassifyR.buildbin-libdir && /Users/biocbuild/BBS/utils/build-universal.sh ClassifyR_3.13.8.tar.gz /Library/Frameworks/R.framework/Resources/bin/R ClassifyR.buildbin-libdir StartedAt: 2025-10-24 22:57:49 -0400 (Fri, 24 Oct 2025) EndedAt: 2025-10-24 22:58:04 -0400 (Fri, 24 Oct 2025) EllapsedTime: 15.3 seconds RetCode: 0 Status: OK PackageFile: ClassifyR_3.13.8.tgz PackageFileSize: 2.543 MiB