Package: ClassifyR Version: 3.13.8 Maintainer: Dario Strbenac MaintainerEmail: dario.strbenac at sydney.edu.au git_url: https://git.bioconductor.org/packages/ClassifyR git_branch: devel git_last_commit: ecbb2eb git_last_commit_date: 2025-10-07 19:00:06 -0400 (Tue, 07 Oct 2025)