Package: CiteFuse Version: 1.21.1 Command: /home/biocbuild/bbs-3.22-bioc/R/bin/R CMD INSTALL CiteFuse StartedAt: 2025-10-24 16:05:24 -0400 (Fri, 24 Oct 2025) EndedAt: 2025-10-24 16:06:13 -0400 (Fri, 24 Oct 2025) EllapsedTime: 48.4 seconds RetCode: 0 Status: OK