Package: CircSeqAlignTk Version: 1.11.2 Command: /home/biocbuild/bbs-3.22-bioc/R/bin/R CMD INSTALL CircSeqAlignTk StartedAt: 2025-10-24 16:03:18 -0400 (Fri, 24 Oct 2025) EndedAt: 2025-10-24 16:04:02 -0400 (Fri, 24 Oct 2025) EllapsedTime: 43.7 seconds RetCode: 0 Status: OK