Package: CircSeqAlignTk Version: 1.11.2 Command: /home/biocbuild/bbs-3.22-bioc/R/bin/R CMD build --keep-empty-dirs --no-resave-data --md5 CircSeqAlignTk StartedAt: 2025-10-24 17:00:35 -0400 (Fri, 24 Oct 2025) EndedAt: 2025-10-24 17:03:05 -0400 (Fri, 24 Oct 2025) EllapsedTime: 149.1 seconds RetCode: 0 Status: OK PackageFile: CircSeqAlignTk_1.11.2.tar.gz PackageFileSize: 1.775 MiB