Package: CircSeqAlignTk Version: 1.11.2 Command: /Library/Frameworks/R.framework/Resources/bin/R CMD build --keep-empty-dirs --no-resave-data CircSeqAlignTk StartedAt: 2025-10-28 16:27:49 -0400 (Tue, 28 Oct 2025) EndedAt: 2025-10-28 16:30:47 -0400 (Tue, 28 Oct 2025) EllapsedTime: 178.0 seconds RetCode: 0 Status: OK PackageFile: CircSeqAlignTk_1.11.2.tar.gz PackageFileSize: 2.085 MiB