Package: CircSeqAlignTk Version: 1.11.2 Command: /Library/Frameworks/R.framework/Resources/bin/R CMD INSTALL CircSeqAlignTk StartedAt: 2025-10-24 15:30:13 -0400 (Fri, 24 Oct 2025) EndedAt: 2025-10-24 15:30:32 -0400 (Fri, 24 Oct 2025) EllapsedTime: 18.7 seconds RetCode: 0 Status: OK