Package: CircSeqAlignTk Version: 1.11.2 Command: /Library/Frameworks/R.framework/Resources/bin/R CMD build --keep-empty-dirs --no-resave-data CircSeqAlignTk StartedAt: 2025-10-24 15:59:10 -0400 (Fri, 24 Oct 2025) EndedAt: 2025-10-24 16:00:22 -0400 (Fri, 24 Oct 2025) EllapsedTime: 71.8 seconds RetCode: 0 Status: OK PackageFile: CircSeqAlignTk_1.11.2.tar.gz PackageFileSize: 2.085 MiB