Package: CircSeqAlignTk Version: 1.12.0 Maintainer: Jianqiang Sun MaintainerEmail: sun at bitdessin.dev git_url: https://git.bioconductor.org/packages/CircSeqAlignTk git_branch: RELEASE_3_22 git_last_commit: d5a1377 git_last_commit_date: 2025-10-29 11:19:05 -0500 (Wed, 29 Oct 2025)