Package: Chromatograms Version: 0.99.7 Command: /home/biocbuild/bbs-3.22-bioc/R/bin/R CMD INSTALL Chromatograms StartedAt: 2025-10-27 15:16:44 -0400 (Mon, 27 Oct 2025) EndedAt: 2025-10-27 15:16:57 -0400 (Mon, 27 Oct 2025) EllapsedTime: 12.7 seconds RetCode: 0 Status: OK