Package: ChromSCape Version: 1.19.1 Command: /Library/Frameworks/R.framework/Resources/bin/R CMD INSTALL ChromSCape StartedAt: 2025-10-28 15:50:48 -0400 (Tue, 28 Oct 2025) EndedAt: 2025-10-28 15:52:01 -0400 (Tue, 28 Oct 2025) EllapsedTime: 72.5 seconds RetCode: 0 Status: OK