Package: ChromSCape Version: 1.19.1 Command: /Library/Frameworks/R.framework/Resources/bin/R CMD build --keep-empty-dirs --no-resave-data ChromSCape StartedAt: 2025-10-28 16:27:07 -0400 (Tue, 28 Oct 2025) EndedAt: 2025-10-28 16:28:32 -0400 (Tue, 28 Oct 2025) EllapsedTime: 85.7 seconds RetCode: 0 Status: OK PackageFile: ChromSCape_1.19.1.tar.gz PackageFileSize: 5.508 MiB