Package: ChromSCape Version: 1.19.1 Command: /Library/Frameworks/R.framework/Resources/bin/R CMD INSTALL ChromSCape StartedAt: 2025-10-24 15:32:00 -0400 (Fri, 24 Oct 2025) EndedAt: 2025-10-24 15:32:21 -0400 (Fri, 24 Oct 2025) EllapsedTime: 20.5 seconds RetCode: 0 Status: OK