Package: ChromSCape Version: 1.19.1 Command: rm -rf ChromSCape.buildbin-libdir && mkdir ChromSCape.buildbin-libdir && /Users/biocbuild/BBS/utils/build-universal.sh ChromSCape_1.19.1.tar.gz /Library/Frameworks/R.framework/Resources/bin/R ChromSCape.buildbin-libdir StartedAt: 2025-10-24 22:57:43 -0400 (Fri, 24 Oct 2025) EndedAt: 2025-10-24 22:58:05 -0400 (Fri, 24 Oct 2025) EllapsedTime: 22.5 seconds RetCode: 0 Status: OK PackageFile: ChromSCape_1.19.1.tgz PackageFileSize: 6.02 MiB