Package: ChromHeatMap Version: 1.63.0 Command: /home/biocbuild/R/R/bin/R CMD INSTALL ChromHeatMap StartedAt: 2025-10-23 20:50:05 -0000 (Thu, 23 Oct 2025) EndedAt: 2025-10-23 20:50:51 -0000 (Thu, 23 Oct 2025) EllapsedTime: 45.7 seconds RetCode: 0 Status: OK