Package: ChromHeatMap Version: 1.63.0 Command: /home/biocbuild/R/R/bin/R CMD build --keep-empty-dirs --no-resave-data ChromHeatMap StartedAt: 2025-10-20 22:42:51 -0000 (Mon, 20 Oct 2025) EndedAt: 2025-10-20 22:43:53 -0000 (Mon, 20 Oct 2025) EllapsedTime: 62.0 seconds RetCode: 0 Status: OK PackageFile: ChromHeatMap_1.63.0.tar.gz PackageFileSize: 311.5 KiB