Package: ChromHeatMap Version: 1.63.0 Command: /home/biocbuild/bbs-3.22-bioc/R/bin/R CMD INSTALL ChromHeatMap StartedAt: 2025-10-24 15:39:13 -0400 (Fri, 24 Oct 2025) EndedAt: 2025-10-24 15:39:49 -0400 (Fri, 24 Oct 2025) EllapsedTime: 35.9 seconds RetCode: 0 Status: OK