Package: ChromHeatMap Version: 1.63.0 Command: /home/biocbuild/bbs-3.22-bioc/R/bin/R CMD build --keep-empty-dirs --no-resave-data --md5 ChromHeatMap StartedAt: 2025-10-24 16:59:32 -0400 (Fri, 24 Oct 2025) EndedAt: 2025-10-24 17:00:22 -0400 (Fri, 24 Oct 2025) EllapsedTime: 50.0 seconds RetCode: 0 Status: OK PackageFile: ChromHeatMap_1.63.0.tar.gz PackageFileSize: 319.8 KiB