Package: ChromHeatMap Version: 1.63.0 Command: /Library/Frameworks/R.framework/Resources/bin/R CMD INSTALL ChromHeatMap StartedAt: 2025-10-26 15:15:30 -0400 (Sun, 26 Oct 2025) EndedAt: 2025-10-26 15:15:44 -0400 (Sun, 26 Oct 2025) EllapsedTime: 13.9 seconds RetCode: 0 Status: OK