Package: ChromHeatMap Version: 1.63.0 Command: /Library/Frameworks/R.framework/Resources/bin/R CMD build --keep-empty-dirs --no-resave-data ChromHeatMap StartedAt: 2025-10-26 15:56:37 -0400 (Sun, 26 Oct 2025) EndedAt: 2025-10-26 15:56:57 -0400 (Sun, 26 Oct 2025) EllapsedTime: 20.2 seconds RetCode: 0 Status: OK PackageFile: ChromHeatMap_1.63.0.tar.gz PackageFileSize: 318.3 KiB