Package: ChromHeatMap Version: 1.63.0 Command: rm -rf ChromHeatMap.buildbin-libdir && mkdir ChromHeatMap.buildbin-libdir && /Users/biocbuild/BBS/utils/build-universal.sh ChromHeatMap_1.63.0.tar.gz /Library/Frameworks/R.framework/Resources/bin/R ChromHeatMap.buildbin-libdir StartedAt: 2025-10-26 22:31:51 -0400 (Sun, 26 Oct 2025) EndedAt: 2025-10-26 22:32:06 -0400 (Sun, 26 Oct 2025) EllapsedTime: 15.2 seconds RetCode: 0 Status: OK PackageFile: ChromHeatMap_1.63.0.tgz PackageFileSize: 676.7 KiB