Package: Chicago Version: 1.38.0 Command: /home/biocbuild/bbs-3.22-bioc/R/bin/R CMD build --keep-empty-dirs --no-resave-data --md5 Chicago StartedAt: 2025-11-16 16:53:58 -0500 (Sun, 16 Nov 2025) EndedAt: 2025-11-16 16:55:32 -0500 (Sun, 16 Nov 2025) EllapsedTime: 93.2 seconds RetCode: 0 Status: OK PackageFile: Chicago_1.38.0.tar.gz PackageFileSize: 1.251 MiB