Package: ChemmineR Version: 3.61.2 Command: /home/biocbuild/bbs-3.22-bioc/R/bin/R CMD INSTALL ChemmineR StartedAt: 2025-10-24 15:22:20 -0400 (Fri, 24 Oct 2025) EndedAt: 2025-10-24 15:22:44 -0400 (Fri, 24 Oct 2025) EllapsedTime: 24.3 seconds RetCode: 0 Status: OK