Package: ChemmineR Version: 3.61.2 Command: /Library/Frameworks/R.framework/Resources/bin/R CMD INSTALL ChemmineR StartedAt: 2025-10-26 15:06:36 -0400 (Sun, 26 Oct 2025) EndedAt: 2025-10-26 15:06:46 -0400 (Sun, 26 Oct 2025) EllapsedTime: 9.7 seconds RetCode: 0 Status: OK