Package: ChemmineR Version: 3.61.2 Command: /Library/Frameworks/R.framework/Resources/bin/R CMD build --keep-empty-dirs --no-resave-data ChemmineR StartedAt: 2025-10-26 15:55:10 -0400 (Sun, 26 Oct 2025) EndedAt: 2025-10-26 15:55:52 -0400 (Sun, 26 Oct 2025) EllapsedTime: 41.5 seconds RetCode: 1 Status: ERROR PackageFile: None PackageFileSize: NA