Package: ChemmineOB Version: 1.47.5 Command: /home/biocbuild/bbs-3.22-bioc/R/bin/R CMD INSTALL ChemmineOB StartedAt: 2025-10-24 15:22:20 -0400 (Fri, 24 Oct 2025) EndedAt: 2025-10-24 15:24:10 -0400 (Fri, 24 Oct 2025) EllapsedTime: 110.0 seconds RetCode: 0 Status: OK