Package: ChemmineOB Version: 1.47.5 Command: /home/biocbuild/bbs-3.22-bioc/R/bin/R CMD build --keep-empty-dirs --no-resave-data --md5 ChemmineOB StartedAt: 2025-10-24 16:56:48 -0400 (Fri, 24 Oct 2025) EndedAt: 2025-10-24 16:58:42 -0400 (Fri, 24 Oct 2025) EllapsedTime: 114.2 seconds RetCode: 0 Status: OK PackageFile: ChemmineOB_1.47.5.tar.gz PackageFileSize: 1.305 MiB