Package: ChIPsim Version: 1.63.0 Command: /home/biocbuild/bbs-3.22-bioc/R/bin/R CMD INSTALL ChIPsim StartedAt: 2025-10-24 16:02:59 -0400 (Fri, 24 Oct 2025) EndedAt: 2025-10-24 16:03:28 -0400 (Fri, 24 Oct 2025) EllapsedTime: 29.0 seconds RetCode: 0 Status: OK