Package: ChIPsim Version: 1.64.0 Command: /home/biocbuild/bbs-3.22-bioc/R/bin/R CMD check --install=check:ChIPsim.install-out.txt --library=/home/biocbuild/bbs-3.22-bioc/R/site-library --timings ChIPsim_1.64.0.tar.gz StartedAt: 2025-10-30 04:24:59 -0400 (Thu, 30 Oct 2025) EndedAt: 2025-10-30 04:28:57 -0400 (Thu, 30 Oct 2025) EllapsedTime: 237.2 seconds RetCode: 0 Status: OK CheckDir: ChIPsim.Rcheck Warnings: 0