Package: ChIPsim Version: 1.63.0 Command: /home/biocbuild/bbs-3.22-bioc/R/bin/R CMD build --keep-empty-dirs --no-resave-data --md5 ChIPsim StartedAt: 2025-10-24 16:58:44 -0400 (Fri, 24 Oct 2025) EndedAt: 2025-10-24 16:59:50 -0400 (Fri, 24 Oct 2025) EllapsedTime: 66.1 seconds RetCode: 0 Status: OK PackageFile: ChIPsim_1.63.0.tar.gz PackageFileSize: 648.4 KiB