Package: ChIPsim Version: 1.63.0 Command: /Library/Frameworks/R.framework/Resources/bin/R CMD INSTALL ChIPsim StartedAt: 2025-10-24 15:52:10 -0400 (Fri, 24 Oct 2025) EndedAt: 2025-10-24 15:52:50 -0400 (Fri, 24 Oct 2025) EllapsedTime: 40.1 seconds RetCode: 0 Status: OK