Package: ChIPsim Version: 1.63.0 Command: /Library/Frameworks/R.framework/Resources/bin/R CMD build --keep-empty-dirs --no-resave-data ChIPsim StartedAt: 2025-10-24 16:31:45 -0400 (Fri, 24 Oct 2025) EndedAt: 2025-10-24 16:33:04 -0400 (Fri, 24 Oct 2025) EllapsedTime: 78.7 seconds RetCode: 0 Status: OK PackageFile: ChIPsim_1.63.0.tar.gz PackageFileSize: 646.3 KiB