Package: ChIPsim Version: 1.63.0 Command: /Library/Frameworks/R.framework/Resources/bin/R CMD build --keep-empty-dirs --no-resave-data ChIPsim StartedAt: 2025-10-26 15:56:12 -0400 (Sun, 26 Oct 2025) EndedAt: 2025-10-26 15:56:37 -0400 (Sun, 26 Oct 2025) EllapsedTime: 25.3 seconds RetCode: 0 Status: OK PackageFile: ChIPsim_1.63.0.tar.gz PackageFileSize: 648 KiB