Package: ChIPseqR Version: 1.63.0 Command: /home/biocbuild/bbs-3.22-bioc/R/bin/R CMD INSTALL ChIPseqR StartedAt: 2025-10-24 16:04:39 -0400 (Fri, 24 Oct 2025) EndedAt: 2025-10-24 16:05:14 -0400 (Fri, 24 Oct 2025) EllapsedTime: 34.5 seconds RetCode: 0 Status: OK