Package: ChIPseqR Version: 1.64.0 Command: /home/biocbuild/bbs-3.22-bioc/R/bin/R CMD check --install=check:ChIPseqR.install-out.txt --library=/home/biocbuild/bbs-3.22-bioc/R/site-library --timings ChIPseqR_1.64.0.tar.gz StartedAt: 2025-10-30 22:00:38 -0400 (Thu, 30 Oct 2025) EndedAt: 2025-10-30 22:05:18 -0400 (Thu, 30 Oct 2025) EllapsedTime: 280.2 seconds RetCode: 0 Status: WARNINGS CheckDir: ChIPseqR.Rcheck Warnings: 1