Package: ChIPseqR Version: 1.63.0 Command: /Library/Frameworks/R.framework/Resources/bin/R CMD build --keep-empty-dirs --no-resave-data ChIPseqR StartedAt: 2025-10-24 16:31:42 -0400 (Fri, 24 Oct 2025) EndedAt: 2025-10-24 16:33:06 -0400 (Fri, 24 Oct 2025) EllapsedTime: 84.4 seconds RetCode: 0 Status: OK PackageFile: ChIPseqR_1.63.0.tar.gz PackageFileSize: 728.9 KiB