Package: ChIPseqR Version: 1.63.0 Command: rm -rf ChIPseqR.buildbin-libdir && mkdir ChIPseqR.buildbin-libdir && /Users/biocbuild/BBS/utils/build-universal.sh ChIPseqR_1.63.0.tar.gz /Library/Frameworks/R.framework/Resources/bin/R ChIPseqR.buildbin-libdir StartedAt: 2025-10-25 01:32:28 -0400 (Sat, 25 Oct 2025) EndedAt: 2025-10-25 01:33:19 -0400 (Sat, 25 Oct 2025) EllapsedTime: 50.9 seconds RetCode: 0 Status: OK PackageFile: ChIPseqR_1.63.0.tgz PackageFileSize: 1.518 MiB