Package: ChIPseqR Version: 1.63.0 Command: /Library/Frameworks/R.framework/Resources/bin/R CMD INSTALL ChIPseqR StartedAt: 2025-10-24 15:30:32 -0400 (Fri, 24 Oct 2025) EndedAt: 2025-10-24 15:30:47 -0400 (Fri, 24 Oct 2025) EllapsedTime: 14.8 seconds RetCode: 0 Status: OK