Package: ChIPseqR Version: 1.63.0 Command: rm -rf ChIPseqR.buildbin-libdir && mkdir ChIPseqR.buildbin-libdir && /Users/biocbuild/BBS/utils/build-universal.sh ChIPseqR_1.63.0.tar.gz /Library/Frameworks/R.framework/Resources/bin/R ChIPseqR.buildbin-libdir StartedAt: 2025-10-24 22:57:32 -0400 (Fri, 24 Oct 2025) EndedAt: 2025-10-24 22:57:48 -0400 (Fri, 24 Oct 2025) EllapsedTime: 16.4 seconds RetCode: 0 Status: OK PackageFile: ChIPseqR_1.63.0.tgz PackageFileSize: 1.521 MiB