Package: ChIPseqR Version: 1.64.0 Maintainer: Peter Humburg MaintainerEmail: peter.humburg at gmail.com git_url: https://git.bioconductor.org/packages/ChIPseqR git_branch: RELEASE_3_22 git_last_commit: 544d5eb git_last_commit_date: 2025-10-29 10:03:52 -0400 (Wed, 29 Oct 2025)