Package: ChIPseeker Version: 1.45.3 Command: /home/biocbuild/bbs-3.22-bioc/R/bin/R CMD INSTALL ChIPseeker StartedAt: 2025-10-24 16:09:57 -0400 (Fri, 24 Oct 2025) EndedAt: 2025-10-24 16:10:46 -0400 (Fri, 24 Oct 2025) EllapsedTime: 48.7 seconds RetCode: 0 Status: OK