Package: ChIPseeker Version: 1.45.3 Command: /home/biocbuild/bbs-3.22-bioc/R/bin/R CMD build --keep-empty-dirs --no-resave-data --md5 ChIPseeker StartedAt: 2025-10-24 16:58:27 -0400 (Fri, 24 Oct 2025) EndedAt: 2025-10-24 17:08:37 -0400 (Fri, 24 Oct 2025) EllapsedTime: 609.6 seconds RetCode: 0 Status: OK PackageFile: ChIPseeker_1.45.3.tar.gz PackageFileSize: 7.257 MiB