Package: ChIPpeakAnno Version: 3.44.0 Command: /home/biocbuild/bbs-3.22-bioc/R/bin/R CMD INSTALL ChIPpeakAnno StartedAt: 2025-11-03 15:52:57 -0500 (Mon, 03 Nov 2025) EndedAt: 2025-11-03 15:54:51 -0500 (Mon, 03 Nov 2025) EllapsedTime: 113.5 seconds RetCode: 0 Status: OK