Package: ChIPpeakAnno Version: 3.44.0 Command: /home/biocbuild/bbs-3.22-bioc/R/bin/R CMD build --keep-empty-dirs --no-resave-data --md5 ChIPpeakAnno StartedAt: 2025-11-02 17:03:40 -0500 (Sun, 02 Nov 2025) EndedAt: 2025-11-02 17:19:22 -0500 (Sun, 02 Nov 2025) EllapsedTime: 941.8 seconds RetCode: 0 Status: OK PackageFile: ChIPpeakAnno_3.44.0.tar.gz PackageFileSize: 21.5 MiB