Package: ChIPexoQual Version: 1.33.1 Command: /home/biocbuild/bbs-3.22-bioc/R/bin/R CMD build --keep-empty-dirs --no-resave-data --md5 ChIPexoQual StartedAt: 2025-10-24 16:58:20 -0400 (Fri, 24 Oct 2025) EndedAt: 2025-10-24 17:00:43 -0400 (Fri, 24 Oct 2025) EllapsedTime: 143.2 seconds RetCode: 0 Status: OK PackageFile: ChIPexoQual_1.33.1.tar.gz PackageFileSize: 2.346 MiB