Package: ChIPexoQual Version: 1.34.0 Command: /Library/Frameworks/R.framework/Resources/bin/R CMD INSTALL ChIPexoQual StartedAt: 2025-11-10 15:22:20 -0500 (Mon, 10 Nov 2025) EndedAt: 2025-11-10 15:22:38 -0500 (Mon, 10 Nov 2025) EllapsedTime: 18.5 seconds RetCode: 0 Status: OK