Package: ChIPexoQual Version: 1.34.0 Command: /Library/Frameworks/R.framework/Resources/bin/R CMD build --keep-empty-dirs --no-resave-data ChIPexoQual StartedAt: 2025-11-10 15:55:13 -0500 (Mon, 10 Nov 2025) EndedAt: 2025-11-10 15:56:16 -0500 (Mon, 10 Nov 2025) EllapsedTime: 62.7 seconds RetCode: 0 Status: OK PackageFile: ChIPexoQual_1.34.0.tar.gz PackageFileSize: 2.459 MiB